BEGIN:VCALENDAR
VERSION:2.0
PRODID:-//Bill Derry Music - ECPv6.15.20//NONSGML v1.0//EN
CALSCALE:GREGORIAN
METHOD:PUBLISH
X-WR-CALNAME:Bill Derry Music
X-ORIGINAL-URL:https://billderrymusic.com
X-WR-CALDESC:Events for Bill Derry Music
REFRESH-INTERVAL;VALUE=DURATION:PT1H
X-Robots-Tag:noindex
X-PUBLISHED-TTL:PT1H
BEGIN:VTIMEZONE
TZID:America/Denver
BEGIN:DAYLIGHT
TZOFFSETFROM:-0700
TZOFFSETTO:-0600
TZNAME:MDT
DTSTART:20230312T090000
END:DAYLIGHT
BEGIN:STANDARD
TZOFFSETFROM:-0600
TZOFFSETTO:-0700
TZNAME:MST
DTSTART:20231105T080000
END:STANDARD
BEGIN:DAYLIGHT
TZOFFSETFROM:-0700
TZOFFSETTO:-0600
TZNAME:MDT
DTSTART:20240310T090000
END:DAYLIGHT
BEGIN:STANDARD
TZOFFSETFROM:-0600
TZOFFSETTO:-0700
TZNAME:MST
DTSTART:20241103T080000
END:STANDARD
BEGIN:DAYLIGHT
TZOFFSETFROM:-0700
TZOFFSETTO:-0600
TZNAME:MDT
DTSTART:20250309T090000
END:DAYLIGHT
BEGIN:STANDARD
TZOFFSETFROM:-0600
TZOFFSETTO:-0700
TZNAME:MST
DTSTART:20251102T080000
END:STANDARD
END:VTIMEZONE
BEGIN:VEVENT
DTSTART;TZID=America/Denver:20241011T190000
DTEND;TZID=America/Denver:20241011T210000
DTSTAMP:20260419T123502
CREATED:20240921T215110Z
LAST-MODIFIED:20240921T215135Z
UID:10000017-1728673200-1728680400@billderrymusic.com
SUMMARY:The Sidekickers at Vinbero
DESCRIPTION:The Sidekickers will be performing at Vinbero in Edmonds.
URL:https://billderrymusic.com/event/the-sidekickers-at-vinbero/
LOCATION:Vinbero Wine Bar\, 203 Fifth Ave S\, Ste 1\, Edmonds\, WA\, 98020\, United States
END:VEVENT
END:VCALENDAR