BEGIN:VCALENDAR
VERSION:2.0
PRODID:-//Bill Derry Music - ECPv6.15.20//NONSGML v1.0//EN
CALSCALE:GREGORIAN
METHOD:PUBLISH
X-WR-CALNAME:Bill Derry Music
X-ORIGINAL-URL:https://billderrymusic.com
X-WR-CALDESC:Events for Bill Derry Music
REFRESH-INTERVAL;VALUE=DURATION:PT1H
X-Robots-Tag:noindex
X-PUBLISHED-TTL:PT1H
BEGIN:VTIMEZONE
TZID:America/Denver
BEGIN:DAYLIGHT
TZOFFSETFROM:-0700
TZOFFSETTO:-0600
TZNAME:MDT
DTSTART:20230312T090000
END:DAYLIGHT
BEGIN:STANDARD
TZOFFSETFROM:-0600
TZOFFSETTO:-0700
TZNAME:MST
DTSTART:20231105T080000
END:STANDARD
BEGIN:DAYLIGHT
TZOFFSETFROM:-0700
TZOFFSETTO:-0600
TZNAME:MDT
DTSTART:20240310T090000
END:DAYLIGHT
BEGIN:STANDARD
TZOFFSETFROM:-0600
TZOFFSETTO:-0700
TZNAME:MST
DTSTART:20241103T080000
END:STANDARD
BEGIN:DAYLIGHT
TZOFFSETFROM:-0700
TZOFFSETTO:-0600
TZNAME:MDT
DTSTART:20250309T090000
END:DAYLIGHT
BEGIN:STANDARD
TZOFFSETFROM:-0600
TZOFFSETTO:-0700
TZNAME:MST
DTSTART:20251102T080000
END:STANDARD
END:VTIMEZONE
BEGIN:VEVENT
DTSTART;TZID=America/Denver:20240615T180000
DTEND;TZID=America/Denver:20240615T233000
DTSTAMP:20260419T210535
CREATED:20240514T154501Z
LAST-MODIFIED:20240514T234438Z
UID:10000001-1718474400-1718494200@billderrymusic.com
SUMMARY:Sidekickers\, ECA fundraiser
DESCRIPTION:Private dinner event to raise funds for the Edmonds Center for the Arts
URL:https://billderrymusic.com/event/sidekickers-eca-fundraiser/
LOCATION:Edmonds\, Edmonds
END:VEVENT
END:VCALENDAR