BEGIN:VCALENDAR
VERSION:2.0
PRODID:-//Bill Derry Music - ECPv6.15.20//NONSGML v1.0//EN
CALSCALE:GREGORIAN
METHOD:PUBLISH
X-ORIGINAL-URL:https://billderrymusic.com
X-WR-CALDESC:Events for Bill Derry Music
REFRESH-INTERVAL;VALUE=DURATION:PT1H
X-Robots-Tag:noindex
X-PUBLISHED-TTL:PT1H
BEGIN:VTIMEZONE
TZID:America/Denver
BEGIN:DAYLIGHT
TZOFFSETFROM:-0700
TZOFFSETTO:-0600
TZNAME:MDT
DTSTART:20250309T090000
END:DAYLIGHT
BEGIN:STANDARD
TZOFFSETFROM:-0600
TZOFFSETTO:-0700
TZNAME:MST
DTSTART:20251102T080000
END:STANDARD
BEGIN:DAYLIGHT
TZOFFSETFROM:-0700
TZOFFSETTO:-0600
TZNAME:MDT
DTSTART:20260308T090000
END:DAYLIGHT
BEGIN:STANDARD
TZOFFSETFROM:-0600
TZOFFSETTO:-0700
TZNAME:MST
DTSTART:20261101T080000
END:STANDARD
BEGIN:DAYLIGHT
TZOFFSETFROM:-0700
TZOFFSETTO:-0600
TZNAME:MDT
DTSTART:20270314T090000
END:DAYLIGHT
BEGIN:STANDARD
TZOFFSETFROM:-0600
TZOFFSETTO:-0700
TZNAME:MST
DTSTART:20271107T080000
END:STANDARD
BEGIN:DAYLIGHT
TZOFFSETFROM:-0700
TZOFFSETTO:-0600
TZNAME:MDT
DTSTART:20280312T090000
END:DAYLIGHT
BEGIN:STANDARD
TZOFFSETFROM:-0600
TZOFFSETTO:-0700
TZNAME:MST
DTSTART:20281105T080000
END:STANDARD
END:VTIMEZONE
BEGIN:VEVENT
DTSTART;TZID=America/Denver:20260424T190000
DTEND;TZID=America/Denver:20260424T210000
DTSTAMP:20260425T104254
CREATED:20260423T215249Z
LAST-MODIFIED:20260423T215249Z
UID:10000061-1777057200-1777064400@billderrymusic.com
SUMMARY:The Sidekickers at Black Raven Brewing in Woodinville
DESCRIPTION:The Sidekickers perform adult contemporary music for kicking back with a cold beer and good friends.
URL:https://billderrymusic.com/event/the-sidekickers-at-black-raven-brewing-in-woodinville/
LOCATION:Black Raven Brewing Woodinville
END:VEVENT
BEGIN:VEVENT
DTSTART;TZID=America/Denver:20260425T180000
DTEND;TZID=America/Denver:20260425T193000
DTSTAMP:20260425T104254
CREATED:20260424T001213Z
LAST-MODIFIED:20260424T001213Z
UID:10000062-1777140000-1777145400@billderrymusic.com
SUMMARY:The Sidekickers at Cheri's Fireside Lounge
DESCRIPTION:The Sidekickers perform adult contemporary music for kicking back with a cold beer and good friends
URL:https://billderrymusic.com/event/the-sidekickers-at-cheris-fireside-lounge/
LOCATION:Cheri’s Fireside Lounge\, Everett
END:VEVENT
BEGIN:VEVENT
DTSTART;TZID=America/Denver:20260426T180000
DTEND;TZID=America/Denver:20260426T190000
DTSTAMP:20260425T104254
CREATED:20260424T001700Z
LAST-MODIFIED:20260424T001700Z
UID:10000063-1777226400-1777230000@billderrymusic.com
SUMMARY:The Sidekickers
DESCRIPTION:The Sidekickers will be performing
URL:https://billderrymusic.com/event/the-sidekickers-12/
LOCATION:Cheri’s Fireside Lounge\, Everett
END:VEVENT
BEGIN:VEVENT
DTSTART;TZID=America/Denver:20260521T180000
DTEND;TZID=America/Denver:20260521T200000
DTSTAMP:20260425T104254
CREATED:20260423T214036Z
LAST-MODIFIED:20260423T214211Z
UID:10000057-1779386400-1779393600@billderrymusic.com
SUMMARY:The Sidekickers
DESCRIPTION:The Sidekickers perform music for kicking back with a cold beer and good friends.
URL:https://billderrymusic.com/event/the-sidekickers-10/2026-05-21/
LOCATION:Salish Sea Brewing Company Boathouse\, Salish Sea Brewing Company Boathouse\, 107 Dayton Avenue\, Edmonds\, WA\, United States
END:VEVENT
BEGIN:VEVENT
DTSTART;TZID=America/Denver:20260619T173000
DTEND;TZID=America/Denver:20260619T193000
DTSTAMP:20260425T104254
CREATED:20260424T004219Z
LAST-MODIFIED:20260424T004219Z
UID:10000064-1781890200-1781897400@billderrymusic.com
SUMMARY:The Sidekickers at Dusted Valley Wines
DESCRIPTION:The Sidekickers perform adult contemporary music for friends sharing good wine.
URL:https://billderrymusic.com/event/the-sidekickers-at-dusted-valley-wines-2/
END:VEVENT
BEGIN:VEVENT
DTSTART;TZID=America/Denver:20260917T180000
DTEND;TZID=America/Denver:20260917T200000
DTSTAMP:20260425T104254
CREATED:20260423T214036Z
LAST-MODIFIED:20260423T214211Z
UID:10000058-1789668000-1789675200@billderrymusic.com
SUMMARY:The Sidekickers
DESCRIPTION:The Sidekickers perform music for kicking back with a cold beer and good friends.
URL:https://billderrymusic.com/event/the-sidekickers-10/2026-09-17/
LOCATION:Salish Sea Brewing Company Boathouse\, Salish Sea Brewing Company Boathouse\, 107 Dayton Avenue\, Edmonds\, WA\, United States
END:VEVENT
BEGIN:VEVENT
DTSTART;TZID=America/Denver:20270121T180000
DTEND;TZID=America/Denver:20270121T200000
DTSTAMP:20260425T104254
CREATED:20260423T214036Z
LAST-MODIFIED:20260423T214211Z
UID:10000059-1800554400-1800561600@billderrymusic.com
SUMMARY:The Sidekickers
DESCRIPTION:The Sidekickers perform music for kicking back with a cold beer and good friends.
URL:https://billderrymusic.com/event/the-sidekickers-10/2027-01-21/
LOCATION:Salish Sea Brewing Company Boathouse\, Salish Sea Brewing Company Boathouse\, 107 Dayton Avenue\, Edmonds\, WA\, United States
END:VEVENT
BEGIN:VEVENT
DTSTART;TZID=America/Denver:20270520T180000
DTEND;TZID=America/Denver:20270520T200000
DTSTAMP:20260425T104254
CREATED:20260423T214036Z
LAST-MODIFIED:20260423T214211Z
UID:10000060-1810836000-1810843200@billderrymusic.com
SUMMARY:The Sidekickers
DESCRIPTION:The Sidekickers perform music for kicking back with a cold beer and good friends.
URL:https://billderrymusic.com/event/the-sidekickers-10/2027-05-20/
LOCATION:Salish Sea Brewing Company Boathouse\, Salish Sea Brewing Company Boathouse\, 107 Dayton Avenue\, Edmonds\, WA\, United States
END:VEVENT
END:VCALENDAR