BEGIN:VCALENDAR
VERSION:2.0
PRODID:-//Bill Derry Music - ECPv6.15.20//NONSGML v1.0//EN
CALSCALE:GREGORIAN
METHOD:PUBLISH
X-ORIGINAL-URL:https://billderrymusic.com
X-WR-CALDESC:Events for Bill Derry Music
REFRESH-INTERVAL;VALUE=DURATION:PT1H
X-Robots-Tag:noindex
X-PUBLISHED-TTL:PT1H
BEGIN:VTIMEZONE
TZID:America/Denver
BEGIN:DAYLIGHT
TZOFFSETFROM:-0700
TZOFFSETTO:-0600
TZNAME:MDT
DTSTART:20230312T090000
END:DAYLIGHT
BEGIN:STANDARD
TZOFFSETFROM:-0600
TZOFFSETTO:-0700
TZNAME:MST
DTSTART:20231105T080000
END:STANDARD
BEGIN:DAYLIGHT
TZOFFSETFROM:-0700
TZOFFSETTO:-0600
TZNAME:MDT
DTSTART:20240310T090000
END:DAYLIGHT
BEGIN:STANDARD
TZOFFSETFROM:-0600
TZOFFSETTO:-0700
TZNAME:MST
DTSTART:20241103T080000
END:STANDARD
BEGIN:DAYLIGHT
TZOFFSETFROM:-0700
TZOFFSETTO:-0600
TZNAME:MDT
DTSTART:20250309T090000
END:DAYLIGHT
BEGIN:STANDARD
TZOFFSETFROM:-0600
TZOFFSETTO:-0700
TZNAME:MST
DTSTART:20251102T080000
END:STANDARD
BEGIN:DAYLIGHT
TZOFFSETFROM:-0700
TZOFFSETTO:-0600
TZNAME:MDT
DTSTART:20260308T090000
END:DAYLIGHT
BEGIN:STANDARD
TZOFFSETFROM:-0600
TZOFFSETTO:-0700
TZNAME:MST
DTSTART:20261101T080000
END:STANDARD
END:VTIMEZONE
BEGIN:VEVENT
DTSTART;TZID=America/Denver:20250918T190000
DTEND;TZID=America/Denver:20250918T210000
DTSTAMP:20260419T210930
CREATED:20250315T181634Z
LAST-MODIFIED:20250315T181634Z
UID:10000024-1758222000-1758229200@billderrymusic.com
SUMMARY:The Sidekickers at Salish Sea Brewing Boathouse
DESCRIPTION:The Sidekickers at Salish Sea Brewing Boathouse outside on the patio weather permitting.
URL:https://billderrymusic.com/event/the-sidekickers-at-salish-sea-brewing-boathouse/2025-09-18/
LOCATION:Salish Sea Brewing Company Boathouse\, Salish Sea Brewing Company Boathouse\, 107 Dayton Avenue\, Edmonds\, WA\, United States
END:VEVENT
BEGIN:VEVENT
DTSTART;TZID=America/Denver:20250821T190000
DTEND;TZID=America/Denver:20250821T210000
DTSTAMP:20260419T210930
CREATED:20250315T181634Z
LAST-MODIFIED:20250315T181634Z
UID:10000023-1755802800-1755810000@billderrymusic.com
SUMMARY:The Sidekickers at Salish Sea Brewing Boathouse
DESCRIPTION:The Sidekickers at Salish Sea Brewing Boathouse outside on the patio weather permitting.
URL:https://billderrymusic.com/event/the-sidekickers-at-salish-sea-brewing-boathouse/2025-08-21/
LOCATION:Salish Sea Brewing Company Boathouse\, Salish Sea Brewing Company Boathouse\, 107 Dayton Avenue\, Edmonds\, WA\, United States
END:VEVENT
BEGIN:VEVENT
DTSTART;TZID=America/Denver:20250717T190000
DTEND;TZID=America/Denver:20250717T210000
DTSTAMP:20260419T210930
CREATED:20250315T181634Z
LAST-MODIFIED:20250315T181634Z
UID:10000022-1752778800-1752786000@billderrymusic.com
SUMMARY:The Sidekickers at Salish Sea Brewing Boathouse
DESCRIPTION:The Sidekickers at Salish Sea Brewing Boathouse outside on the patio weather permitting.
URL:https://billderrymusic.com/event/the-sidekickers-at-salish-sea-brewing-boathouse/2025-07-17/
LOCATION:Salish Sea Brewing Company Boathouse\, Salish Sea Brewing Company Boathouse\, 107 Dayton Avenue\, Edmonds\, WA\, United States
END:VEVENT
BEGIN:VEVENT
DTSTART;TZID=America/Denver:20250619T190000
DTEND;TZID=America/Denver:20250619T210000
DTSTAMP:20260419T210930
CREATED:20250315T181634Z
LAST-MODIFIED:20250315T181634Z
UID:10000021-1750359600-1750366800@billderrymusic.com
SUMMARY:The Sidekickers at Salish Sea Brewing Boathouse
DESCRIPTION:The Sidekickers at Salish Sea Brewing Boathouse outside on the patio weather permitting.
URL:https://billderrymusic.com/event/the-sidekickers-at-salish-sea-brewing-boathouse/2025-06-19/
LOCATION:Salish Sea Brewing Company Boathouse\, Salish Sea Brewing Company Boathouse\, 107 Dayton Avenue\, Edmonds\, WA\, United States
END:VEVENT
BEGIN:VEVENT
DTSTART;TZID=America/Denver:20250515T190000
DTEND;TZID=America/Denver:20250515T210000
DTSTAMP:20260419T210930
CREATED:20250315T181634Z
LAST-MODIFIED:20250315T181634Z
UID:10000020-1747335600-1747342800@billderrymusic.com
SUMMARY:The Sidekickers at Salish Sea Brewing Boathouse
DESCRIPTION:The Sidekickers at Salish Sea Brewing Boathouse outside on the patio weather permitting.
URL:https://billderrymusic.com/event/the-sidekickers-at-salish-sea-brewing-boathouse/2025-05-15/
LOCATION:Salish Sea Brewing Company Boathouse\, Salish Sea Brewing Company Boathouse\, 107 Dayton Avenue\, Edmonds\, WA\, United States
END:VEVENT
BEGIN:VEVENT
DTSTART;TZID=America/Denver:20250417T190000
DTEND;TZID=America/Denver:20250417T210000
DTSTAMP:20260419T210930
CREATED:20250315T181634Z
LAST-MODIFIED:20250315T181634Z
UID:10000019-1744916400-1744923600@billderrymusic.com
SUMMARY:The Sidekickers at Salish Sea Brewing Boathouse
DESCRIPTION:The Sidekickers at Salish Sea Brewing Boathouse outside on the patio weather permitting.
URL:https://billderrymusic.com/event/the-sidekickers-at-salish-sea-brewing-boathouse/2025-04-17/
LOCATION:Salish Sea Brewing Company Boathouse\, Salish Sea Brewing Company Boathouse\, 107 Dayton Avenue\, Edmonds\, WA\, United States
END:VEVENT
BEGIN:VEVENT
DTSTART;TZID=America/Denver:20250320T180000
DTEND;TZID=America/Denver:20250320T200000
DTSTAMP:20260419T210930
CREATED:20240914T003659Z
LAST-MODIFIED:20240914T003659Z
UID:10000016-1742493600-1742500800@billderrymusic.com
SUMMARY:The Sidekickers
DESCRIPTION:The Sidekickers at Salish Sea Brewing Boathouse
URL:https://billderrymusic.com/event/the-sidekickers-4/2025-03-20/
LOCATION:Salish Sea Brewing Company Boathouse\, Salish Sea Brewing Company Boathouse\, 107 Dayton Avenue\, Edmonds\, WA\, United States
END:VEVENT
BEGIN:VEVENT
DTSTART;TZID=America/Denver:20250220T180000
DTEND;TZID=America/Denver:20250220T200000
DTSTAMP:20260419T210930
CREATED:20240914T003659Z
LAST-MODIFIED:20240914T003659Z
UID:10000015-1740074400-1740081600@billderrymusic.com
SUMMARY:The Sidekickers
DESCRIPTION:The Sidekickers at Salish Sea Brewing Boathouse
URL:https://billderrymusic.com/event/the-sidekickers-4/2025-02-20/
LOCATION:Salish Sea Brewing Company Boathouse\, Salish Sea Brewing Company Boathouse\, 107 Dayton Avenue\, Edmonds\, WA\, United States
END:VEVENT
BEGIN:VEVENT
DTSTART;TZID=America/Denver:20250116T180000
DTEND;TZID=America/Denver:20250116T200000
DTSTAMP:20260419T210930
CREATED:20240914T003659Z
LAST-MODIFIED:20240914T003659Z
UID:10000014-1737050400-1737057600@billderrymusic.com
SUMMARY:The Sidekickers
DESCRIPTION:The Sidekickers at Salish Sea Brewing Boathouse
URL:https://billderrymusic.com/event/the-sidekickers-4/2025-01-16/
LOCATION:Salish Sea Brewing Company Boathouse\, Salish Sea Brewing Company Boathouse\, 107 Dayton Avenue\, Edmonds\, WA\, United States
END:VEVENT
BEGIN:VEVENT
DTSTART;TZID=America/Denver:20241219T180000
DTEND;TZID=America/Denver:20241219T200000
DTSTAMP:20260419T210930
CREATED:20240914T003659Z
LAST-MODIFIED:20240914T003659Z
UID:10000013-1734631200-1734638400@billderrymusic.com
SUMMARY:The Sidekickers
DESCRIPTION:The Sidekickers at Salish Sea Brewing Boathouse
URL:https://billderrymusic.com/event/the-sidekickers-4/2024-12-19/
LOCATION:Salish Sea Brewing Company Boathouse\, Salish Sea Brewing Company Boathouse\, 107 Dayton Avenue\, Edmonds\, WA\, United States
END:VEVENT
BEGIN:VEVENT
DTSTART;TZID=America/Denver:20241121T180000
DTEND;TZID=America/Denver:20241121T200000
DTSTAMP:20260419T210930
CREATED:20240914T003659Z
LAST-MODIFIED:20240914T003659Z
UID:10000012-1732212000-1732219200@billderrymusic.com
SUMMARY:The Sidekickers
DESCRIPTION:The Sidekickers at Salish Sea Brewing Boathouse
URL:https://billderrymusic.com/event/the-sidekickers-4/2024-11-21/
LOCATION:Salish Sea Brewing Company Boathouse\, Salish Sea Brewing Company Boathouse\, 107 Dayton Avenue\, Edmonds\, WA\, United States
END:VEVENT
BEGIN:VEVENT
DTSTART;TZID=America/Denver:20241017T180000
DTEND;TZID=America/Denver:20241017T200000
DTSTAMP:20260419T210930
CREATED:20240914T003659Z
LAST-MODIFIED:20240914T003659Z
UID:10000011-1729188000-1729195200@billderrymusic.com
SUMMARY:The Sidekickers
DESCRIPTION:The Sidekickers at Salish Sea Brewing Boathouse
URL:https://billderrymusic.com/event/the-sidekickers-4/2024-10-17/
LOCATION:Salish Sea Brewing Company Boathouse\, Salish Sea Brewing Company Boathouse\, 107 Dayton Avenue\, Edmonds\, WA\, United States
END:VEVENT
BEGIN:VEVENT
DTSTART;TZID=America/Denver:20240822T190000
DTEND;TZID=America/Denver:20240822T233000
DTSTAMP:20260419T210930
CREATED:20240514T160607Z
LAST-MODIFIED:20240514T234221Z
UID:10000005-1724353200-1724369400@billderrymusic.com
SUMMARY:The Sidekickers
DESCRIPTION:The Sidekickers will be performing music for kicking back with a cold beer on the patio with good friends.
URL:https://billderrymusic.com/event/the-sidekickers-2/
LOCATION:Salish Sea Brewing Company Boathouse\, Salish Sea Brewing Company Boathouse\, 107 Dayton Avenue\, Edmonds\, WA\, United States
END:VEVENT
BEGIN:VEVENT
DTSTART;TZID=America/Denver:20240801T190000
DTEND;TZID=America/Denver:20240801T233000
DTSTAMP:20260419T210930
CREATED:20240514T160325Z
LAST-MODIFIED:20240514T160325Z
UID:10000004-1722538800-1722555000@billderrymusic.com
SUMMARY:The Sidekickers
DESCRIPTION:The Sidekickers will be performing music for kicking back with a cold beer on the patio with good friends.
URL:https://billderrymusic.com/event/the-sidekickers/
LOCATION:Salish Sea Brewing Company Boathouse\, Salish Sea Brewing Company Boathouse\, 107 Dayton Avenue\, Edmonds\, WA\, United States
END:VEVENT
BEGIN:VEVENT
DTSTART;TZID=America/Denver:20240718T190000
DTEND;TZID=America/Denver:20240718T233000
DTSTAMP:20260419T210930
CREATED:20240514T155300Z
LAST-MODIFIED:20240514T234617Z
UID:10000002-1721329200-1721345400@billderrymusic.com
SUMMARY:Sidekickers
DESCRIPTION:Party on the deck with the Sidekickers
URL:https://billderrymusic.com/event/sidekickers/
LOCATION:Salish Sea Brewing Company Boathouse\, Salish Sea Brewing Company Boathouse\, 107 Dayton Avenue\, Edmonds\, WA\, United States
END:VEVENT
END:VCALENDAR